BEGIN:VCALENDAR
VERSION:2.0
PRODID:-//Linda&#039;s Dance Works - ECPv6.15.20//NONSGML v1.0//EN
CALSCALE:GREGORIAN
METHOD:PUBLISH
X-WR-CALNAME:Linda&#039;s Dance Works
X-ORIGINAL-URL:https://lindasdanceworks.com
X-WR-CALDESC:Events for Linda&#039;s Dance Works
REFRESH-INTERVAL;VALUE=DURATION:PT1H
X-Robots-Tag:noindex
X-PUBLISHED-TTL:PT1H
BEGIN:VTIMEZONE
TZID:America/Detroit
BEGIN:DAYLIGHT
TZOFFSETFROM:-0500
TZOFFSETTO:-0400
TZNAME:EDT
DTSTART:20230312T070000
END:DAYLIGHT
BEGIN:STANDARD
TZOFFSETFROM:-0400
TZOFFSETTO:-0500
TZNAME:EST
DTSTART:20231105T060000
END:STANDARD
BEGIN:DAYLIGHT
TZOFFSETFROM:-0500
TZOFFSETTO:-0400
TZNAME:EDT
DTSTART:20240310T070000
END:DAYLIGHT
BEGIN:STANDARD
TZOFFSETFROM:-0400
TZOFFSETTO:-0500
TZNAME:EST
DTSTART:20241103T060000
END:STANDARD
BEGIN:DAYLIGHT
TZOFFSETFROM:-0500
TZOFFSETTO:-0400
TZNAME:EDT
DTSTART:20250309T070000
END:DAYLIGHT
BEGIN:STANDARD
TZOFFSETFROM:-0400
TZOFFSETTO:-0500
TZNAME:EST
DTSTART:20251102T060000
END:STANDARD
END:VTIMEZONE
BEGIN:VEVENT
DTSTART;TZID=America/Detroit:20240617T183000
DTEND;TZID=America/Detroit:20240618T213000
DTSTAMP:20260422T023131
CREATED:20230818T163921Z
LAST-MODIFIED:20240506T171734Z
UID:1192-1718649000-1718746200@lindasdanceworks.com
SUMMARY:Dance Recitals: Monday\, June 17 and Tuesday\, June 18 at Seaholm HS Auditoirum.
DESCRIPTION:Our dance recitals will be held at Seaholm HS Auditorium on Monday\, June 17 and Tuesday\, June 18. Showtime begins at 7:00 PM. Students will be provided detailed information.
URL:https://lindasdanceworks.com/event/dance-recitals-monday-june-17-and-tuesday-june-18-at-groves-hs-auditoirum/
LOCATION:Seaholm High School\, Birmingham\, MI\, United States
END:VEVENT
END:VCALENDAR