BEGIN:VCALENDAR
VERSION:2.0
PRODID:-//Linda&#039;s Dance Works - ECPv6.15.20//NONSGML v1.0//EN
CALSCALE:GREGORIAN
METHOD:PUBLISH
X-WR-CALNAME:Linda&#039;s Dance Works
X-ORIGINAL-URL:https://lindasdanceworks.com
X-WR-CALDESC:Events for Linda&#039;s Dance Works
REFRESH-INTERVAL;VALUE=DURATION:PT1H
X-Robots-Tag:noindex
X-PUBLISHED-TTL:PT1H
BEGIN:VTIMEZONE
TZID:America/Detroit
BEGIN:DAYLIGHT
TZOFFSETFROM:-0500
TZOFFSETTO:-0400
TZNAME:EDT
DTSTART:20230312T070000
END:DAYLIGHT
BEGIN:STANDARD
TZOFFSETFROM:-0400
TZOFFSETTO:-0500
TZNAME:EST
DTSTART:20231105T060000
END:STANDARD
BEGIN:DAYLIGHT
TZOFFSETFROM:-0500
TZOFFSETTO:-0400
TZNAME:EDT
DTSTART:20240310T070000
END:DAYLIGHT
BEGIN:STANDARD
TZOFFSETFROM:-0400
TZOFFSETTO:-0500
TZNAME:EST
DTSTART:20241103T060000
END:STANDARD
BEGIN:DAYLIGHT
TZOFFSETFROM:-0500
TZOFFSETTO:-0400
TZNAME:EDT
DTSTART:20250309T070000
END:DAYLIGHT
BEGIN:STANDARD
TZOFFSETFROM:-0400
TZOFFSETTO:-0500
TZNAME:EST
DTSTART:20251102T060000
END:STANDARD
END:VTIMEZONE
BEGIN:VEVENT
DTSTART;VALUE=DATE:20240524
DTEND;VALUE=DATE:20240528
DTSTAMP:20260422T023225
CREATED:20230818T163207Z
LAST-MODIFIED:20230818T163207Z
UID:1186-1716508800-1716854399@lindasdanceworks.com
SUMMARY:Memorial Weekend: studio closed.
DESCRIPTION:The dance studio will be closed during Memorial Weekend: 5/24-5/27. These dates were not included in the calendar. No make-up classes neccessary.
URL:https://lindasdanceworks.com/event/memorial-weekend-studio-closed/
LOCATION:MI
END:VEVENT
END:VCALENDAR