BEGIN:VCALENDAR
VERSION:2.0
PRODID:-//Linda&#039;s Dance Works - ECPv6.15.20//NONSGML v1.0//EN
CALSCALE:GREGORIAN
METHOD:PUBLISH
X-WR-CALNAME:Linda&#039;s Dance Works
X-ORIGINAL-URL:https://lindasdanceworks.com
X-WR-CALDESC:Events for Linda&#039;s Dance Works
REFRESH-INTERVAL;VALUE=DURATION:PT1H
X-Robots-Tag:noindex
X-PUBLISHED-TTL:PT1H
BEGIN:VTIMEZONE
TZID:America/Detroit
BEGIN:DAYLIGHT
TZOFFSETFROM:-0500
TZOFFSETTO:-0400
TZNAME:EDT
DTSTART:20230312T070000
END:DAYLIGHT
BEGIN:STANDARD
TZOFFSETFROM:-0400
TZOFFSETTO:-0500
TZNAME:EST
DTSTART:20231105T060000
END:STANDARD
BEGIN:DAYLIGHT
TZOFFSETFROM:-0500
TZOFFSETTO:-0400
TZNAME:EDT
DTSTART:20240310T070000
END:DAYLIGHT
BEGIN:STANDARD
TZOFFSETFROM:-0400
TZOFFSETTO:-0500
TZNAME:EST
DTSTART:20241103T060000
END:STANDARD
BEGIN:DAYLIGHT
TZOFFSETFROM:-0500
TZOFFSETTO:-0400
TZNAME:EDT
DTSTART:20250309T070000
END:DAYLIGHT
BEGIN:STANDARD
TZOFFSETFROM:-0400
TZOFFSETTO:-0500
TZNAME:EST
DTSTART:20251102T060000
END:STANDARD
END:VTIMEZONE
BEGIN:VEVENT
DTSTART;VALUE=DATE:20240506
DTEND;VALUE=DATE:20240510
DTSTAMP:20260422T023140
CREATED:20230818T162958Z
LAST-MODIFIED:20230818T162958Z
UID:1184-1714953600-1715299199@lindasdanceworks.com
SUMMARY:Picture Week: 5/6-5/9.
DESCRIPTION:Picture Week is held 5/6-5/9. Dancers wear their costumes to class. Group photos will be taken during the usual class time. Individual photos can also be taken.
URL:https://lindasdanceworks.com/event/picture-week-5-6-5-9/
LOCATION:Linda’s DanceWorks\, 3184 12 Mile Road\, Berkley\, MI\, 48072\, United States
END:VEVENT
END:VCALENDAR